BEGIN:VCALENDAR
VERSION:2.0
PRODID:-//Squarespace Inc/Squarespace 6//v6//EN
BEGIN:VEVENT
UID:5e23db36556e15498a9c76fa@squarespace.com
DTSTAMP:20200119T043248Z
DTSTART:20200714T083000Z
DTEND:20200721T023000Z
SUMMARY:Yoga retreat SRI LANKA
GEO:5.943277;80.620163
LOCATION:Talalla Retreat\, Sri Lanka
END:VEVENT
END:VCALENDAR
