BEGIN:VCALENDAR
VERSION:2.0
PRODID:-//Squarespace Inc/Squarespace 6//v6//EN
BEGIN:VEVENT
UID:5e313e5b89363c704fe7d190@squarespace.com
DTSTAMP:20200129T081709Z
DTSTART:20201025T083000Z
DTEND:20201101T043000Z
SUMMARY:Yoga in Varanasi
END:VEVENT
END:VCALENDAR
