BEGIN:VCALENDAR
VERSION:2.0
PRODID:-//Squarespace Inc/Squarespace 6//v6//EN
BEGIN:VEVENT
UID:5c603f6e53450a883a2150e1@squarespace.com
DTSTAMP:20190317T045330Z
DTSTART:20190716T063000Z
DTEND:20190723T073000Z
SUMMARY:Iyengar Retreat in Sri Lanka
GEO:40.720756;-74.000761
LOCATION:Tallala Retreat\, Sri Lanka
END:VEVENT
END:VCALENDAR
