BEGIN:VCALENDAR
VERSION:2.0
PRODID:-//Squarespace Inc/Squarespace 6//v6//EN
BEGIN:VEVENT
UID:5c603f9171c10be188f12acf@squarespace.com
DTSTAMP:20190210T160608Z
DTSTART:20190322T230000Z
DTEND:20190324T040000Z
SUMMARY:Margaret River Weekend
END:VEVENT
END:VCALENDAR
